BEGIN:VCALENDAR
VERSION:2.0
PRODID:gruene-ts.de
METHOD:PUBLISH
BEGIN:VTIMEZONE
TZID:Europe/Berlin
X-LIC-LOCATION:Europe/Berlin
BEGIN:DAYLIGHT
TZOFFSETFROM:+0100
TZOFFSETTO:+0200
TZNAME:CEST
DTSTART:19700329T020000
RRULE:FREQ=YEARLY;INTERVAL=1;BYDAY=-1SU;BYMONTH=3
END:DAYLIGHT
BEGIN:STANDARD
TZOFFSETFROM:+0200
TZOFFSETTO:+0100
TZNAME:CET
DTSTART:19701025T030000
RRULE:FREQ=YEARLY;INTERVAL=1;BYDAY=-1SU;BYMONTH=10
END:STANDARD
END:VTIMEZONE
BEGIN:VEVENT
UID:287543a52b968be125a7a768eaf7249f@gruene-ts.de
URL;VALUE=URI:https://gruene-ts.de/termine/ag-60gruen-7/
LOCATION:Kiezbüro, Kolonnenstraße 53, 10829 Berlin 
SUMMARY:AG 60+Grün
DESCRIPTION;ALTREP="data:text/html,%3Cp%3E%3C%2Fp%3E":
CLASS:PUBLIC
DTSTART;TZID=Europe/Berlin:20260828T153000
DTEND;TZID=Europe/Berlin:20260828T173000
DTSTAMP:20260421T104446
END:VEVENT
END:VCALENDAR