BEGIN:VCALENDAR
VERSION:2.0
PRODID:gruene-ts.de
METHOD:PUBLISH
BEGIN:VTIMEZONE
TZID:Europe/Berlin
X-LIC-LOCATION:Europe/Berlin
BEGIN:DAYLIGHT
TZOFFSETFROM:+0100
TZOFFSETTO:+0200
TZNAME:CEST
DTSTART:19700329T020000
RRULE:FREQ=YEARLY;INTERVAL=1;BYDAY=-1SU;BYMONTH=3
END:DAYLIGHT
BEGIN:STANDARD
TZOFFSETFROM:+0200
TZOFFSETTO:+0100
TZNAME:CET
DTSTART:19701025T030000
RRULE:FREQ=YEARLY;INTERVAL=1;BYDAY=-1SU;BYMONTH=10
END:STANDARD
END:VTIMEZONE
BEGIN:VEVENT
UID:c85fdc04cf76eb193b72e53dfbf3dcc7@gruene-ts.de
URL;VALUE=URI:https://gruene-ts.de/termine/berlin-raeumt-auf-am-breslauer
 -platz/
LOCATION:Breslauer Platz, Rheinstraße, 12159 Berlin
SUMMARY:„Berlin räumt auf” am Breslauer Platz
DESCRIPTION;ALTREP="data:text/html,%0A%3Cp%3EGemeinsam%20r%C3%A4umen%20wi
 r%20regelm%C3%A4%C3%9Fig%20Pl%C3%A4tze%20und%20Parks%20in%20Tempelhof-Sch
 %C3%B6neberg%20auf.%20Nat%C3%BCrlich%20w%C3%A4re%20es%20sch%C3%B6n%2C%20w
 enn%20unser%20Einsatz%20gar%20nicht%20n%C3%B6tig%20w%C3%A4re%2C%20weniger
 %20M%C3%BCll%20liegen%20bliebe%20und%20die%20BSR%20mehr%20Ressourcen%20f%
 C3%BCr%20die%20Beseitigung%20h%C3%A4tte.%3Cbr%3EWenn%20wir%20selbst%20anp
 acken%2C%20ersetzt%20das%20nicht%20die%20notwendige%20politische%20Arbeit
 .%20Aber%20wir%20gestalten%20den%20%C3%B6ffentlichen%20Raum%20bei%20uns%2
 0im%20Kiez%20aktiv%20mit%20und%20k%C3%B6nnen%20nebenbei%20mit%20Menschen%
 20zu%20unseren%20Ideen%20f%C3%BCr%20Abfallvermeidung%20und%20Kreislaufwir
 tschaft%20%28z.%20B.%20Einwegverpackungssteuer%20und%20Ausbau%20des%20Meh
 rwegangebots%29%20ins%20Gespr%C3%A4ch%20kommen.%3C%2Fp%3E%0A%0A%0A%0A%3Cp
 %3EIn%20diesem%20Sinne%20widmen%20wir%20uns%20am%2022.4.%20anl%C3%A4sslic
 h%20der%20%E2%80%9EBerlin%20r%C3%A4umt%20auf%E2%80%9D%20Aktion%20des%20RB
 B%20von%2016%E2%80%9318%20Uhr%20dem%20Breslauer%20Platz.%3C%2Fp%3E%0A%0A%
 0A%0A%3Cp%3EWir%20haben%20ausreichend%20M%C3%BClls%C3%A4cke%2C%20Greifzan
 gen%20und%20Handschuhe%20f%C3%BCr%20gro%C3%9F%20und%20klein%20dabei.%3C%2
 Fp%3E%0A%0A%0A%0A%3Cp%3EKommt%20vorbei%20und%20macht%20mit%21%3C%2Fp%3E%0
 A":Gemeinsam räumen wir regelmäßig Plätze und Parks in Tempelhof-Sch
 öneberg auf. Natürlich wäre es schön\, wenn unser Einsatz gar nicht n
 ötig wäre\, weniger Müll liegen bliebe und die BSR mehr Ressourcen fü
 r die Beseitigung hätte.Wenn wir selbst anpacken\, ersetzt das nicht die
  notwendige politische Arbeit. Aber wir gestalten den öffentlichen Raum 
 bei uns im Kiez aktiv mit und können nebenbei mit Menschen zu unseren Id
 een für Abfallvermeidung und Kreislaufwirtschaft (z. B. Einwegverpackung
 ssteuer und Ausbau des Mehrwegangebots) ins Gespräch kommen.\n\nIn diese
 m Sinne widmen wir uns am 22.4. anlässlich der „Berlin räumt auf” A
 ktion des RBB von 16–18 Uhr dem Breslauer Platz.\n\nWir haben ausreiche
 nd Müllsäcke\, Greifzangen und Handschuhe für groß und klein dabei.\n
 \nKommt vorbei und macht mit!
CLASS:PUBLIC
DTSTART;TZID=Europe/Berlin:20260422T160000
DTEND;TZID=Europe/Berlin:20260422T180000
DTSTAMP:20260419T174808
END:VEVENT
END:VCALENDAR