BEGIN:VCALENDAR
VERSION:2.0
PRODID:gruene-ts.de
METHOD:PUBLISH
BEGIN:VTIMEZONE
TZID:Europe/Berlin
X-LIC-LOCATION:Europe/Berlin
BEGIN:DAYLIGHT
TZOFFSETFROM:+0100
TZOFFSETTO:+0200
TZNAME:CEST
DTSTART:19700329T020000
RRULE:FREQ=YEARLY;INTERVAL=1;BYDAY=-1SU;BYMONTH=3
END:DAYLIGHT
BEGIN:STANDARD
TZOFFSETFROM:+0200
TZOFFSETTO:+0100
TZNAME:CET
DTSTART:19701025T030000
RRULE:FREQ=YEARLY;INTERVAL=1;BYDAY=-1SU;BYMONTH=10
END:STANDARD
END:VTIMEZONE
BEGIN:VEVENT
UID:207f640fea5f844e3968a035e3f7517f@gruene-ts.de
URL;VALUE=URI:https://gruene-ts.de/termine/clean-up-am-zirkusspielplatz-b
 ornstrasse/
LOCATION:Zirkusspielplatz, Bornstraße 6, 12163 Berlin
SUMMARY:Clean-Up am Zirkusspielplatz (Bornstraße)
DESCRIPTION;ALTREP="data:text/html,%0A%3Cp%3EGemeinsam%20r%C3%A4umen%20wi
 r%20regelm%C3%A4%C3%9Fig%20Pl%C3%A4tze%20und%20Parks%20in%20Tempelhof-Sch
 %C3%B6neberg%20auf.%20Nat%C3%BCrlich%20w%C3%A4re%20es%20sch%C3%B6n%2C%20w
 enn%20unser%20Einsatz%20gar%20nicht%20n%C3%B6tig%20w%C3%A4re%2C%20weniger
 %20M%C3%BCll%20liegen%20bliebe%20und%20die%20BSR%20mehr%20Ressourcen%20f%
 C3%BCr%20die%20Beseitigung%20h%C3%A4tte.%3Cbr%3EWenn%20wir%20selbst%20anp
 acken%2C%20ersetzt%20das%20nicht%20die%20notwendige%20politische%20Arbeit
 .%20Aber%20wir%20gestalten%20den%20%C3%B6ffentlichen%20Raum%20bei%20uns%2
 0im%20Kiez%20aktiv%20mit%20und%20k%C3%B6nnen%20nebenbei%20mit%20Menschen%
 20zu%20unseren%20Ideen%20f%C3%BCr%20Abfallvermeidung%20und%20Kreislaufwir
 tschaft%20%28z.%20B.%20Einwegverpackungssteuer%20und%20Ausbau%20des%20Meh
 rwegangebots%29%20ins%20Gespr%C3%A4ch%20kommen.%3C%2Fp%3E%0A%0A%0A%0A%3Cp
 %3EBesonders%20Spielpl%C3%A4tze%20sollten%20immer%20frei%20von%20M%C3%BCl
 l%20sein%2C%20daher%20r%C3%A4umen%20wir%20am%2030.5.%20von%2010%E2%80%931
 2%20Uhr%20den%20Zirkusspielpatz%20in%20der%20Bornstra%C3%9Fe%20auf.%3C%2F
 p%3E%0A%0A%0A%0A%3Cp%3EWir%20haben%20ausreichend%20M%C3%BClls%C3%A4cke%2C
 %20Greifzangen%20und%20Handschuhe%20f%C3%BCr%20gro%C3%9F%20und%20klein%20
 dabei.%3C%2Fp%3E%0A%0A%0A%0A%3Cp%3EKommt%20vorbei%20und%20macht%20mit%21%
 3C%2Fp%3E%0A":Gemeinsam räumen wir regelmäßig Plätze und Parks in Tem
 pelhof-Schöneberg auf. Natürlich wäre es schön\, wenn unser Einsatz g
 ar nicht nötig wäre\, weniger Müll liegen bliebe und die BSR mehr Ress
 ourcen für die Beseitigung hätte.Wenn wir selbst anpacken\, ersetzt das
  nicht die notwendige politische Arbeit. Aber wir gestalten den öffentli
 chen Raum bei uns im Kiez aktiv mit und können nebenbei mit Menschen zu 
 unseren Ideen für Abfallvermeidung und Kreislaufwirtschaft (z. B. Einweg
 verpackungssteuer und Ausbau des Mehrwegangebots) ins Gespräch kommen.\n
 \nBesonders Spielplätze sollten immer frei von Müll sein\, daher räume
 n wir am 30.5. von 10–12 Uhr den Zirkusspielpatz in der Bornstraße auf
 .\n\nWir haben ausreichend Müllsäcke\, Greifzangen und Handschuhe für 
 groß und klein dabei.\n\nKommt vorbei und macht mit!
CLASS:PUBLIC
DTSTART;TZID=Europe/Berlin:20260530T100000
DTEND;TZID=Europe/Berlin:20260530T120000
DTSTAMP:20260421T111029
END:VEVENT
END:VCALENDAR